519.265137713368860
0.000000000000000
0.000000000000000
-519.572540045766800
1225671.189422253500000
491998.813729977120000
