1.0000000000
0.0000000000
0.0000000000
-1.0000000000
766718.5000000000
1592896.5000000000
