6.00000000000000
0.00000000000000
0.00000000000000
-6.00000000000000
1165311.00000000000000
758499.00000000000000
