6.00000000000000
0.00000000000000
0.00000000000000
-6.00000000000000
1195311.00000000000000
757755.00000000000000
