6.00000000000000
0.00000000000000
0.00000000000000
-6.00000000000000
1255317.00000000000000
756405.00000000000000
