6.00000000000000
0.00000000000000
0.00000000000000
-6.00000000000000
1315323.00000000000000
755253.00000000000000
