6.00000000000000
0.00000000000000
0.00000000000000
-6.00000000000000
1209249.00000000000000
711801.00000000000000
