6.00000000000000
0.00000000000000
0.00000000000000
-6.00000000000000
1269405.00000000000000
710499.00000000000000
