6.00000000000000
0.00000000000000
0.00000000000000
-6.00000000000000
1283565.00000000000000
664605.00000000000000
