6.00000000000000
0.00000000000000
0.00000000000000
-6.00000000000000
1284003.00000000000000
687405.00000000000000
