6.00000000000000
0.00000000000000
0.00000000000000
-6.00000000000000
1313721.00000000000000
664053.00000000000000
