6.00000000000000
0.00000000000000
0.00000000000000
-6.00000000000000
1328793.00000000000000
663795.00000000000000
