6.00000000000000
0.00000000000000
0.00000000000000
-6.00000000000000
1329177.00000000000000
686595.00000000000000
