6.00000000000000
0.00000000000000
0.00000000000000
-6.00000000000000
1222749.00000000000000
643065.00000000000000
