6.00000000000000
0.00000000000000
0.00000000000000
-6.00000000000000
1175769.00000000000000
575751.00000000000000
