6.00000000000000
0.00000000000000
0.00000000000000
-6.00000000000000
1176333.00000000000000
598545.00000000000000
