6.00000000000000
0.00000000000000
0.00000000000000
-6.00000000000000
1221723.00000000000000
597471.00000000000000
