6.00000000000000
0.00000000000000
0.00000000000000
-6.00000000000000
1312515.00000000000000
595653.00000000000000
