6.00000000000000
0.00000000000000
0.00000000000000
-6.00000000000000
1205001.00000000000000
529431.00000000000000
