6.00000000000000
0.00000000000000
0.00000000000000
-6.00000000000000
1220703.00000000000000
551877.00000000000000
