6.00000000000000
0.00000000000000
0.00000000000000
-6.00000000000000
1250559.00000000000000
528429.00000000000000
