6.00000000000000
0.00000000000000
0.00000000000000
-6.00000000000000
1235373.00000000000000
528747.00000000000000
