6.00000000000000
0.00000000000000
0.00000000000000
-6.00000000000000
1265751.00000000000000
528117.00000000000000
