6.00000000000000
0.00000000000000
0.00000000000000
-6.00000000000000
1341687.00000000000000
526749.00000000000000
