6.00000000000000
0.00000000000000
0.00000000000000
-6.00000000000000
1280499.00000000000000
505023.00000000000000
