6.00000000000000
0.00000000000000
0.00000000000000
-6.00000000000000
1265289.00000000000000
505323.00000000000000
