6.00000000000000
0.00000000000000
0.00000000000000
-6.00000000000000
1295283.00000000000000
481941.00000000000000
