6.00000000000000
0.00000000000000
0.00000000000000
-6.00000000000000
1295703.00000000000000
504735.00000000000000
