6.00000000000000
0.00000000000000
0.00000000000000
-6.00000000000000
1358949.00000000000000
663309.00000000000000
