6.00000000000000
0.00000000000000
0.00000000000000
-6.00000000000000
1418991.00000000000000
639693.00000000000000
