6.00000000000000
0.00000000000000
0.00000000000000
-6.00000000000000
1509567.00000000000000
638835.00000000000000
