6.00000000000000
0.00000000000000
0.00000000000000
-6.00000000000000
1554759.00000000000000
615771.00000000000000
