6.00000000000000
0.00000000000000
0.00000000000000
-6.00000000000000
1372719.00000000000000
571887.00000000000000
