6.00000000000000
0.00000000000000
0.00000000000000
-6.00000000000000
1478979.00000000000000
593469.00000000000000
