6.00000000000000
0.00000000000000
0.00000000000000
-6.00000000000000
1509087.00000000000000
570435.00000000000000
