6.00000000000000
0.00000000000000
0.00000000000000
-6.00000000000000
1524381.00000000000000
593133.00000000000000
