6.00000000000000
0.00000000000000
0.00000000000000
-6.00000000000000
1356873.00000000000000
526515.00000000000000
