6.00000000000000
0.00000000000000
0.00000000000000
-6.00000000000000
1357221.00000000000000
549315.00000000000000
