6.00000000000000
0.00000000000000
0.00000000000000
-6.00000000000000
1433073.00000000000000
548319.00000000000000
