6.00000000000000
0.00000000000000
0.00000000000000
-6.00000000000000
1463415.00000000000000
548007.00000000000000
