6.00000000000000
0.00000000000000
0.00000000000000
-6.00000000000000
1448241.00000000000000
548157.00000000000000
