6.00000000000000
0.00000000000000
0.00000000000000
-6.00000000000000
1371735.00000000000000
503493.00000000000000
