6.00000000000000
0.00000000000000
0.00000000000000
-6.00000000000000
1225314.00000000000000
757056.00000000000000
