6.00000000000000
0.00000000000000
0.00000000000000
-6.00000000000000
1164138.00000000000000
712908.00000000000000
