6.00000000000000
0.00000000000000
0.00000000000000
-6.00000000000000
1164720.00000000000000
735702.00000000000000
