6.00000000000000
0.00000000000000
0.00000000000000
-6.00000000000000
1209246.00000000000000
711804.00000000000000
