6.00000000000000
0.00000000000000
0.00000000000000
-6.00000000000000
1224798.00000000000000
734256.00000000000000
