6.00000000000000
0.00000000000000
0.00000000000000
-6.00000000000000
1299480.00000000000000
709920.00000000000000
