6.00000000000000
0.00000000000000
0.00000000000000
-6.00000000000000
1313718.00000000000000
664050.00000000000000
