6.00000000000000
0.00000000000000
0.00000000000000
-6.00000000000000
1298640.00000000000000
664320.00000000000000
